BEGIN:VCALENDAR
VERSION:2.0
PRODID:-//PropTech News - ECPv6.15.20//NONSGML v1.0//EN
CALSCALE:GREGORIAN
METHOD:PUBLISH
X-WR-CALNAME:PropTech News
X-ORIGINAL-URL:https://proptechnews.ch
X-WR-CALDESC:Veranstaltungen für PropTech News
REFRESH-INTERVAL;VALUE=DURATION:PT1H
X-Robots-Tag:noindex
X-PUBLISHED-TTL:PT1H
BEGIN:VTIMEZONE
TZID:Europe/Zurich
BEGIN:DAYLIGHT
TZOFFSETFROM:+0100
TZOFFSETTO:+0200
TZNAME:CEST
DTSTART:20250330T010000
END:DAYLIGHT
BEGIN:STANDARD
TZOFFSETFROM:+0200
TZOFFSETTO:+0100
TZNAME:CET
DTSTART:20251026T010000
END:STANDARD
BEGIN:DAYLIGHT
TZOFFSETFROM:+0100
TZOFFSETTO:+0200
TZNAME:CEST
DTSTART:20260329T010000
END:DAYLIGHT
BEGIN:STANDARD
TZOFFSETFROM:+0200
TZOFFSETTO:+0100
TZNAME:CET
DTSTART:20261025T010000
END:STANDARD
BEGIN:DAYLIGHT
TZOFFSETFROM:+0100
TZOFFSETTO:+0200
TZNAME:CEST
DTSTART:20270328T010000
END:DAYLIGHT
BEGIN:STANDARD
TZOFFSETFROM:+0200
TZOFFSETTO:+0100
TZNAME:CET
DTSTART:20271031T010000
END:STANDARD
END:VTIMEZONE
BEGIN:VEVENT
DTSTART;VALUE=DATE:20260309
DTEND;VALUE=DATE:20260314
DTSTAMP:20260423T152114
CREATED:20251226T193157Z
LAST-MODIFIED:20251226T193305Z
UID:9515-1773014400-1773446399@proptechnews.ch
SUMMARY:MIPIM
DESCRIPTION:MIPIM – The Global Urban Festival. The world’s leading real estate event where leaders shape investment strategies\, partnerships and the future of cities.
URL:https://proptechnews.ch/event/mipim/
LOCATION:Palais des Festivals\, Cannes\, Franc\, 1 Boulevard de la Croisette\, Cannes\, 06400\, Frankreich
END:VEVENT
END:VCALENDAR